BEGIN:VCALENDAR
VERSION:2.0
PRODID:-//Cenetherlands - ECPv6.15.11//NONSGML v1.0//EN
CALSCALE:GREGORIAN
METHOD:PUBLISH
X-WR-CALNAME:Cenetherlands
X-ORIGINAL-URL:https://www.cenetherlands.nl
X-WR-CALDESC:Eventos para Cenetherlands
REFRESH-INTERVAL;VALUE=DURATION:PT1H
X-Robots-Tag:noindex
X-PUBLISHED-TTL:PT1H
BEGIN:VTIMEZONE
TZID:Europe/Paris
BEGIN:DAYLIGHT
TZOFFSETFROM:+0100
TZOFFSETTO:+0200
TZNAME:CEST
DTSTART:20230326T010000
END:DAYLIGHT
BEGIN:STANDARD
TZOFFSETFROM:+0200
TZOFFSETTO:+0100
TZNAME:CET
DTSTART:20231029T010000
END:STANDARD
BEGIN:DAYLIGHT
TZOFFSETFROM:+0100
TZOFFSETTO:+0200
TZNAME:CEST
DTSTART:20240331T010000
END:DAYLIGHT
BEGIN:STANDARD
TZOFFSETFROM:+0200
TZOFFSETTO:+0100
TZNAME:CET
DTSTART:20241027T010000
END:STANDARD
BEGIN:DAYLIGHT
TZOFFSETFROM:+0100
TZOFFSETTO:+0200
TZNAME:CEST
DTSTART:20250330T010000
END:DAYLIGHT
BEGIN:STANDARD
TZOFFSETFROM:+0200
TZOFFSETTO:+0100
TZNAME:CET
DTSTART:20251026T010000
END:STANDARD
END:VTIMEZONE
BEGIN:VEVENT
DTSTART;VALUE=DATE:20240401
DTEND;VALUE=DATE:20250101
DTSTAMP:20260419T173256
CREATED:20240613T073004Z
LAST-MODIFIED:20241105T084711Z
UID:246451-1711929600-1735689599@www.cenetherlands.nl
SUMMARY:CENL contests 2024: Photo and Blog
DESCRIPTION:Blog 2024 \n¿Quieres compartir tu investigación y experiencias de una forma más accesible para que todo el mundo las entienda? En CENL hemos hecho este concurso de post de blog para ofrecer la oportunidad de abrir vuestra investigación al mundo de una manera más informal. Esta primera edición tiene como tema “pasado\, presente y futuro en ciencia”. Apúntate aquí: https://www.cenetherlands.nl/i-concurso-de-blog-cenl-pasado-presente-y-futuro-en-la-ciencia/ \nDo you want to share your research and experiences in the Netherlands in a more accessible way so that everyone understands it? At CENL we hold this blog post contest to offer the opportunity to open your research to the world in a more informal way. This first edition has as its theme “past\, present and future in science.” Send your entry here: https://www.cenetherlands.nl/en/cenl-i-blog-writing-competition-2024-past-present-and-future-in-science/ \nPhoto 2024 \nEl concurso de fotografía pretende destacar la belleza e importancia de la investigación de los miembros de CENL. Buscamos imágenes que capturen vuestra investigación y la acerquen a una audiencia más general. Esta primera edición tiene como tema “más allá de mis fronteras”. Apúntate aquí: https://www.cenetherlands.nl/i-concurso-fotografia/ \nThis photography contest aims to highlight the beauty and importance of the research activities from CENL members. We are looking for pictures that show your research\, and bring it closer to a general audience. In this first edition\, the theme is: beyond my borders. Send your pictures here: https://www.cenetherlands.nl/en/cenl-i-photography-contest/ \n¡Esperamos ver vuestras ideas originales! \nWe look forward to seeing your original ideas! \n 
URL:https://www.cenetherlands.nl/event/cenl-contests-2024-photo-and-blog/
ATTACH;FMTTYPE=image/png:https://www.cenetherlands.nl/wp-content/uploads/2024/06/Concursos2024.png
END:VEVENT
BEGIN:VEVENT
DTSTART;TZID=Europe/Paris:20240720T160000
DTEND;TZID=Europe/Paris:20240720T180000
DTSTAMP:20260419T173256
CREATED:20240613T073558Z
LAST-MODIFIED:20240613T074851Z
UID:246454-1721491200-1721498400@www.cenetherlands.nl
SUMMARY:Paseo en barco CENL
DESCRIPTION:¡Nos vemos en Ámsterdam el próximo sábado 20 de julio! Navegaremos la ciudad en barco techado (con bebidas y unas tapas) a partir de las 16:00! \nSee you in Amsterdam next Sunday\, July 20th! We will sail the city by boat (with drinks and some tapas) starting at 16:00! The boat has a roof\, so rain will not be a problem!\n\nPlace of embarkation and disembarkation: here\, near Centraal\, Amsterdam.\nTime: 16:00\nDuration: 2:00 hours\nPrice: €30 for members and €35 for non-members (includes boat trip and drinks)\nInscription form: here\nLimited places! (we will close the form once it is filled). \nDon’t miss it\, it will be fun! After the event\, we will go for drinks and dinner and you are more than welcome to come! \nIMPORTANT: If anyone is unable to attend or will be arriving later\, please notify us. You can see the contact details in the inscription form.\n\nFor non-members who would like to become members: You can join us here! \nCancellation policy: In order to reserve a place\, we need you to pay the individual cost in advance via Tikkie. In case of early cancellation (more than one week before the event) we will refund the price. In case of late cancellation\, we will do so if/when we find a replacement. In case of cancellation of the event\, all money will be refunded.
URL:https://www.cenetherlands.nl/event/paseo-en-barco-cenl/
LOCATION:Punto de desembarque\, Near Station Centraal\, Amsterdam\, Netherlands
ATTACH;FMTTYPE=image/png:https://www.cenetherlands.nl/wp-content/uploads/2024/06/Barco_july2024.png
END:VEVENT
END:VCALENDAR